BEGIN:VCALENDAR
VERSION:2.0
PRODID:-//GamIR - ECPv6.6.2//NONSGML v1.0//EN
CALSCALE:GREGORIAN
METHOD:PUBLISH
X-WR-CALNAME:GamIR
X-ORIGINAL-URL:https://gamir.co.uk
X-WR-CALDESC:Events for GamIR
REFRESH-INTERVAL;VALUE=DURATION:PT1H
X-Robots-Tag:noindex
X-PUBLISHED-TTL:PT1H
BEGIN:VTIMEZONE
TZID:Europe/Brussels
BEGIN:DAYLIGHT
TZOFFSETFROM:+0100
TZOFFSETTO:+0200
TZNAME:CEST
DTSTART:20220327T010000
END:DAYLIGHT
BEGIN:STANDARD
TZOFFSETFROM:+0200
TZOFFSETTO:+0100
TZNAME:CET
DTSTART:20221030T010000
END:STANDARD
END:VTIMEZONE
BEGIN:VEVENT
DTSTART;TZID=Europe/Brussels:20220625T080000
DTEND;TZID=Europe/Brussels:20220629T170000
DTSTAMP:20260422T235102
CREATED:20210413T152038Z
LAST-MODIFIED:20240412T104744Z
UID:3787-1656144000-1656522000@gamir.co.uk
SUMMARY:Sweet Gaming Season #1
DESCRIPTION:Ut varius tincidunt libero. Etiam ut purus mattis mauris sodales aliquam. Vestibulum ante ipsum primis in faucibus orci luctus et ultrices posuere cubilia Curae; Sed aliquam\, nisi quis porttitor congue\, elit erat euismod orci\, ac placerat dolor lectus quis orci. Quisque libero metus\, condimentum nec\, tempor a\, commodo mollis\, magna. \nCum sociis natoque penatibus et magnis dis parturient montes\, nascetur ridiculus mus. Sed augue ipsum\, egestas nec\, vestibulum et\, malesuada adipiscing\, dui. Etiam sollicitudin\, ipsum eu pulvinar rutrum\, tellus ipsum laoreet sapien\, quis venenatis ante odio sit amet eros. Etiam rhoncus. \nPhasellus accumsan cursus velit. Vestibulum ante ipsum primis in faucibus orci luctus et ultrices posuere cubilia Curae; Fusce id purus. Curabitur nisi. Donec orci lectus\, aliquam ut\, faucibus non\, euismod id\, nulla.
URL:https://gamir.co.uk/event/sweet-gaming-season-1/
LOCATION:Chongqing Zhongxian E-Sports Stadium\, Aoti 2nd Branch Rd\, Chongqing\, Jiulongpo District\, China
CATEGORIES:Championship,Real-time strategy
ATTACH;FMTTYPE=image/jpeg:https://gamir.co.uk/wp-content/uploads/2020/07/photo-of-person-typing-on-computer-keyboard-735911.jpg
END:VEVENT
BEGIN:VEVENT
DTSTART;TZID=Europe/Brussels:20220616T080000
DTEND;TZID=Europe/Brussels:20220616T170000
DTSTAMP:20260422T235102
CREATED:20210413T152315Z
LAST-MODIFIED:20240412T104744Z
UID:3789-1655366400-1655398800@gamir.co.uk
SUMMARY:PinkyBone's interview
DESCRIPTION:Curabitur ullamcorper ultricies nisi. Donec sodales sagittis magna. Curabitur suscipit suscipit tellus. Vivamus quis mi. \nCras sagittis. Aenean vulputate eleifend tellus. Suspendisse feugiat. Ut id nisl quis enim dignissim sagittis. \nPellentesque habitant morbi tristique senectus et netus et malesuada fames ac turpis egestas. Etiam vitae tortor. Aenean vulputate eleifend tellus. Fusce fermentum odio nec arcu.
URL:https://gamir.co.uk/event/pinkybones-interview/
LOCATION:The Esports Arena\, 120 W 5th St\, Santa Ana\, CA\, 92701\, United States
CATEGORIES:Draft
ATTACH;FMTTYPE=image/jpeg:https://gamir.co.uk/wp-content/uploads/2020/07/fazly-shah-yt4WtR15mlI-unsplash.jpg
END:VEVENT
BEGIN:VEVENT
DTSTART;TZID=Europe/Brussels:20220401T080000
DTEND;TZID=Europe/Brussels:20220401T170000
DTSTAMP:20260422T235102
CREATED:20210409T162302Z
LAST-MODIFIED:20240412T104743Z
UID:3563-1648800000-1648832400@gamir.co.uk
SUMMARY:Gaming Pro League
DESCRIPTION:Phasellus volutpat\, metus eget egestas mollis\, lacus lacus blandit dui\, id egestas quam mauris ut lacus. Nam pretium turpis et arcu. Donec venenatis vulputate lorem. Vestibulum purus quam\, scelerisque ut\, mollis sed\, nonummy id\, metus. Aenean commodo ligula eget dolor. \nDonec sodales sagittis magna. Nunc nonummy metus. Etiam iaculis nunc ac metus. Praesent porttitor\, nulla vitae posuere iaculis\, arcu nisl dignissim dolor\, a pretium mi sem ut ipsum. Vestibulum suscipit nulla quis orci. \nEtiam imperdiet imperdiet orci. Ut id nisl quis enim dignissim sagittis. Pellentesque ut neque. Nunc nulla. Aliquam lorem ante\, dapibus in\, viverra quis\, feugiat a\, tellus.
URL:https://gamir.co.uk/event/gaming-pro-league/
LOCATION:Fusion Arena\, 3300 S 7th St STE 1\, Philadelphia\, PA\, 19148\, United States
CATEGORIES:Championship
ATTACH;FMTTYPE=image/jpeg:https://gamir.co.uk/wp-content/uploads/2020/07/florian-olivo-Mf23RF8xArY-unsplash.jpg
END:VEVENT
END:VCALENDAR