BEGIN:VCALENDAR
VERSION:2.0
PRODID:-//GamIR - ECPv6.6.2//NONSGML v1.0//EN
CALSCALE:GREGORIAN
METHOD:PUBLISH
X-ORIGINAL-URL:https://gamir.co.uk
X-WR-CALDESC:Events for GamIR
REFRESH-INTERVAL;VALUE=DURATION:PT1H
X-Robots-Tag:noindex
X-PUBLISHED-TTL:PT1H
BEGIN:VTIMEZONE
TZID:Europe/Brussels
BEGIN:DAYLIGHT
TZOFFSETFROM:+0100
TZOFFSETTO:+0200
TZNAME:CEST
DTSTART:20220327T010000
END:DAYLIGHT
BEGIN:STANDARD
TZOFFSETFROM:+0200
TZOFFSETTO:+0100
TZNAME:CET
DTSTART:20221030T010000
END:STANDARD
BEGIN:DAYLIGHT
TZOFFSETFROM:+0100
TZOFFSETTO:+0200
TZNAME:CEST
DTSTART:20230326T010000
END:DAYLIGHT
BEGIN:STANDARD
TZOFFSETFROM:+0200
TZOFFSETTO:+0100
TZNAME:CET
DTSTART:20231029T010000
END:STANDARD
END:VTIMEZONE
BEGIN:VEVENT
DTSTART;VALUE=DATE:20221201
DTEND;VALUE=DATE:20221204
DTSTAMP:20260422T221312
CREATED:20210413T152937Z
LAST-MODIFIED:20240412T104744Z
UID:3795-1669852800-1670111999@gamir.co.uk
SUMMARY:Battle Royale Premiere Grand Finals
DESCRIPTION:Fusce neque. Morbi vestibulum volutpat enim. Curabitur at lacus ac velit ornare lobortis. Morbi ac felis. Curabitur turpis. \nPhasellus a est. Praesent adipiscing. Praesent egestas neque eu enim. Maecenas egestas arcu quis ligula mattis placerat. Pellentesque dapibus hendrerit tortor. \nEtiam feugiat lorem non metus. Sed a libero. Nam at tortor in tellus interdum sagittis. Suspendisse enim turpis\, dictum sed\, iaculis a\, condimentum nec\, nisi. Phasellus gravida semper nisi.
URL:https://gamir.co.uk/event/battle-royale-premiere-grand-finals/
LOCATION:Blizzard Arena\, 3000 W Alameda Ave\, Burbank\, CA\, 91505\, United States
CATEGORIES:Championship,Fighting games
ATTACH;FMTTYPE=image/jpeg:https://gamir.co.uk/wp-content/uploads/2021/04/pexels-akwice-3094799-copie.jpg
END:VEVENT
BEGIN:VEVENT
DTSTART;VALUE=DATE:20230617
DTEND;VALUE=DATE:20230618
DTSTAMP:20260422T221312
CREATED:20210413T151618Z
LAST-MODIFIED:20240412T104744Z
UID:3785-1686960000-1687046399@gamir.co.uk
SUMMARY:Stream Tournament Upper Division
DESCRIPTION:Fusce convallis metus id felis luctus adipiscing. Phasellus magna. Aenean posuere\, tortor sed cursus feugiat\, nunc augue blandit nunc\, eu sollicitudin urna dolor sagittis lacus. Donec posuere vulputate arcu. \nDuis leo. Fusce vulputate eleifend sapien.. Morbi mattis ullamcorper velit. \nPellentesque dapibus hendrerit tortor. In ut quam vitae odio lacinia tincidunt. Praesent metus tellus\, elementum eu\, semper a\, adipiscing nec\, purus. Nam at tortor in tellus interdum sagittis.
URL:https://gamir.co.uk/event/stream-tournament-upper-division/
LOCATION:Blizzard Arena\, 3000 W Alameda Ave\, Burbank\, CA\, 91505\, United States
CATEGORIES:Stream
ATTACH;FMTTYPE=image/jpeg:https://gamir.co.uk/wp-content/uploads/2020/07/sean-do-Z09mEQdm3u4-unsplash.jpg
END:VEVENT
END:VCALENDAR